BEGIN:VCALENDAR
VERSION:2.0
PRODID:-//Fleisher Art Memorial - ECPv6.15.20//NONSGML v1.0//EN
CALSCALE:GREGORIAN
METHOD:PUBLISH
X-WR-CALNAME:Fleisher Art Memorial
X-ORIGINAL-URL:https://fleisher.org
X-WR-CALDESC:Events for Fleisher Art Memorial
REFRESH-INTERVAL;VALUE=DURATION:PT1H
X-Robots-Tag:noindex
X-PUBLISHED-TTL:PT1H
BEGIN:VTIMEZONE
TZID:America/New_York
BEGIN:DAYLIGHT
TZOFFSETFROM:-0500
TZOFFSETTO:-0400
TZNAME:EDT
DTSTART:20230312T070000
END:DAYLIGHT
BEGIN:STANDARD
TZOFFSETFROM:-0400
TZOFFSETTO:-0500
TZNAME:EST
DTSTART:20231105T060000
END:STANDARD
BEGIN:DAYLIGHT
TZOFFSETFROM:-0500
TZOFFSETTO:-0400
TZNAME:EDT
DTSTART:20240310T070000
END:DAYLIGHT
BEGIN:STANDARD
TZOFFSETFROM:-0400
TZOFFSETTO:-0500
TZNAME:EST
DTSTART:20241103T060000
END:STANDARD
BEGIN:DAYLIGHT
TZOFFSETFROM:-0500
TZOFFSETTO:-0400
TZNAME:EDT
DTSTART:20250309T070000
END:DAYLIGHT
BEGIN:STANDARD
TZOFFSETFROM:-0400
TZOFFSETTO:-0500
TZNAME:EST
DTSTART:20251102T060000
END:STANDARD
END:VTIMEZONE
BEGIN:VEVENT
DTSTART;TZID=America/New_York:20241025T190000
DTEND;TZID=America/New_York:20241025T210000
DTSTAMP:20260424T060648
CREATED:20241017T202013Z
LAST-MODIFIED:20241018T131241Z
UID:25353-1729882800-1729890000@fleisher.org
SUMMARY:Carrie Film Screening with froggyhaus
DESCRIPTION:froggyhaus presents a film screening of the 1976 horror classic Carrie. For the bullied\, the shy\, the quiet\, the enraged\, or the curious. If you haven’t seen this cinematic gem\, you’re in for a visual and emotional marvel. If you’ve seen it\, come rewatch it in all its telekinetic glory with froggyhaus and friends. A delectable Snack Bar prepared by Party Girl Bake Club and slices of an exclusive froggyhaus themed fall cake will be available for purchase! \nfroggyhaus is a Philly based content creator highlighting all the best Philly has to offer: from workshops to art markets to local businesses and artists you can’t sleep on. froggyhaus has your go to weekend plans\, your new favorite vintage store and your next date night locked down. Saving you from boring weekends and lonely nights\, one perfectly curated recommendation at a time.
URL:https://fleisher.org/event/carrie-film-screening-with-froggyhaus/
LOCATION:Fleisher Art Memorial\, 719 Catharine St\, Philadelphia\, PA\, 19147\, United States
ATTACH;FMTTYPE=image/png:https://fleisher.org/wp-content/uploads/2024/10/image001.png
GEO:39.9391884;-75.1553567
X-APPLE-STRUCTURED-LOCATION;VALUE=URI;X-ADDRESS=Fleisher Art Memorial 719 Catharine St Philadelphia PA 19147 United States;X-APPLE-RADIUS=500;X-TITLE=719 Catharine St:geo:-75.1553567,39.9391884
END:VEVENT
END:VCALENDAR