BEGIN:VCALENDAR
VERSION:2.0
PRODID:-//Fleisher Art Memorial - ECPv6.15.20//NONSGML v1.0//EN
CALSCALE:GREGORIAN
METHOD:PUBLISH
X-WR-CALNAME:Fleisher Art Memorial
X-ORIGINAL-URL:https://fleisher.org
X-WR-CALDESC:Events for Fleisher Art Memorial
REFRESH-INTERVAL;VALUE=DURATION:PT1H
X-Robots-Tag:noindex
X-PUBLISHED-TTL:PT1H
BEGIN:VTIMEZONE
TZID:America/New_York
BEGIN:DAYLIGHT
TZOFFSETFROM:-0500
TZOFFSETTO:-0400
TZNAME:EDT
DTSTART:20230312T070000
END:DAYLIGHT
BEGIN:STANDARD
TZOFFSETFROM:-0400
TZOFFSETTO:-0500
TZNAME:EST
DTSTART:20231105T060000
END:STANDARD
BEGIN:DAYLIGHT
TZOFFSETFROM:-0500
TZOFFSETTO:-0400
TZNAME:EDT
DTSTART:20240310T070000
END:DAYLIGHT
BEGIN:STANDARD
TZOFFSETFROM:-0400
TZOFFSETTO:-0500
TZNAME:EST
DTSTART:20241103T060000
END:STANDARD
BEGIN:DAYLIGHT
TZOFFSETFROM:-0500
TZOFFSETTO:-0400
TZNAME:EDT
DTSTART:20250309T070000
END:DAYLIGHT
BEGIN:STANDARD
TZOFFSETFROM:-0400
TZOFFSETTO:-0500
TZNAME:EST
DTSTART:20251102T060000
END:STANDARD
END:VTIMEZONE
BEGIN:VEVENT
DTSTART;TZID=America/New_York:20240628T180000
DTEND;TZID=America/New_York:20240628T200000
DTSTAMP:20260421T042620
CREATED:20240522T145639Z
LAST-MODIFIED:20240619T013514Z
UID:24144-1719597600-1719604800@fleisher.org
SUMMARY:Creative Happy Hour: Cut Ups and Collage with Chloe Luisa Piñero
DESCRIPTION:Join Philly-based artist Chloe Luisa Piñero for this informal collage workshop. Bring a bud or make a friend while we get our creative juices flowing and make something unexpected together! Supplies and light refreshments will be provided. This event is 21+.
URL:https://fleisher.org/event/creative-happy-hour-cut-ups-and-collage-with-chloe-luisa-pinero/
LOCATION:Fleisher Art Memorial\, 719 Catharine St\, Philadelphia\, PA\, 19147\, United States
CATEGORIES:Featured Event
ATTACH;FMTTYPE=image/jpeg:https://fleisher.org/wp-content/uploads/2024/05/StudioPortrait_ChloeLuisaPinero2-scaled-e1716389788268.jpg
GEO:39.9391884;-75.1553567
X-APPLE-STRUCTURED-LOCATION;VALUE=URI;X-ADDRESS=Fleisher Art Memorial 719 Catharine St Philadelphia PA 19147 United States;X-APPLE-RADIUS=500;X-TITLE=719 Catharine St:geo:-75.1553567,39.9391884
END:VEVENT
END:VCALENDAR