BEGIN:VCALENDAR
VERSION:2.0
PRODID:-//Fleisher Art Memorial - ECPv6.15.20//NONSGML v1.0//EN
CALSCALE:GREGORIAN
METHOD:PUBLISH
X-WR-CALNAME:Fleisher Art Memorial
X-ORIGINAL-URL:https://fleisher.org
X-WR-CALDESC:Events for Fleisher Art Memorial
REFRESH-INTERVAL;VALUE=DURATION:PT1H
X-Robots-Tag:noindex
X-PUBLISHED-TTL:PT1H
BEGIN:VTIMEZONE
TZID:America/New_York
BEGIN:DAYLIGHT
TZOFFSETFROM:-0500
TZOFFSETTO:-0400
TZNAME:EDT
DTSTART:20190310T070000
END:DAYLIGHT
BEGIN:STANDARD
TZOFFSETFROM:-0400
TZOFFSETTO:-0500
TZNAME:EST
DTSTART:20191103T060000
END:STANDARD
BEGIN:DAYLIGHT
TZOFFSETFROM:-0500
TZOFFSETTO:-0400
TZNAME:EDT
DTSTART:20200308T070000
END:DAYLIGHT
BEGIN:STANDARD
TZOFFSETFROM:-0400
TZOFFSETTO:-0500
TZNAME:EST
DTSTART:20201101T060000
END:STANDARD
BEGIN:DAYLIGHT
TZOFFSETFROM:-0500
TZOFFSETTO:-0400
TZNAME:EDT
DTSTART:20210314T070000
END:DAYLIGHT
BEGIN:STANDARD
TZOFFSETFROM:-0400
TZOFFSETTO:-0500
TZNAME:EST
DTSTART:20211107T060000
END:STANDARD
END:VTIMEZONE
BEGIN:VEVENT
DTSTART;TZID=America/New_York:20200221T130000
DTEND;TZID=America/New_York:20200221T210000
DTSTAMP:20260424T071144
CREATED:20191120T163133Z
LAST-MODIFIED:20200220T195255Z
UID:14077-1582290000-1582318800@fleisher.org
SUMMARY:Drawing Marathon with New York Academy of Art
DESCRIPTION:The New York Academy of Art presents its annual drawing marathon in Philadelphia on Friday\, February 21\, from 1:00 p.m. to 9:00 p.m. For eight hours\, we’ll have live figure models posing in the Sanctuary with academy faculty offering tips and portfolio reviews. This event is free and open to artists age 18 and above. Bring your own paints\, pencils and gear\, we’ll provide easels\, models and snacks. Pre-registration is suggested. For more information please email admissions@nyaa.edu.
URL:https://fleisher.org/event/drawing-marathon-with-new-york-academy-of-art/
ATTACH;FMTTYPE=image/jpeg:https://fleisher.org/wp-content/uploads/2018/12/2018_Drawing-Marathon_Fleisher_combo-750x375.jpg
END:VEVENT
END:VCALENDAR