BEGIN:VCALENDAR
VERSION:2.0
PRODID:-//Fleisher Art Memorial - ECPv6.15.20//NONSGML v1.0//EN
CALSCALE:GREGORIAN
METHOD:PUBLISH
X-WR-CALNAME:Fleisher Art Memorial
X-ORIGINAL-URL:https://fleisher.org
X-WR-CALDESC:Events for Fleisher Art Memorial
REFRESH-INTERVAL;VALUE=DURATION:PT1H
X-Robots-Tag:noindex
X-PUBLISHED-TTL:PT1H
BEGIN:VTIMEZONE
TZID:America/New_York
BEGIN:DAYLIGHT
TZOFFSETFROM:-0500
TZOFFSETTO:-0400
TZNAME:EDT
DTSTART:20200308T070000
END:DAYLIGHT
BEGIN:STANDARD
TZOFFSETFROM:-0400
TZOFFSETTO:-0500
TZNAME:EST
DTSTART:20201101T060000
END:STANDARD
BEGIN:DAYLIGHT
TZOFFSETFROM:-0500
TZOFFSETTO:-0400
TZNAME:EDT
DTSTART:20210314T070000
END:DAYLIGHT
BEGIN:STANDARD
TZOFFSETFROM:-0400
TZOFFSETTO:-0500
TZNAME:EST
DTSTART:20211107T060000
END:STANDARD
BEGIN:DAYLIGHT
TZOFFSETFROM:-0500
TZOFFSETTO:-0400
TZNAME:EDT
DTSTART:20220313T070000
END:DAYLIGHT
BEGIN:STANDARD
TZOFFSETFROM:-0400
TZOFFSETTO:-0500
TZNAME:EST
DTSTART:20221106T060000
END:STANDARD
END:VTIMEZONE
BEGIN:VEVENT
DTSTART;TZID=America/New_York:20210311T183000
DTEND;TZID=America/New_York:20210311T193000
DTSTAMP:20260420T051653
CREATED:20210301T173259Z
LAST-MODIFIED:20210301T212151Z
UID:15224-1615487400-1615491000@fleisher.org
SUMMARY:Fleisher From a Distance: Mini Crits with Da Vinci Art Alliance
DESCRIPTION:Take the opportunity to get feedback on your work from the amazing duo of Bryant Girsh\, exhibitions and programs director at Da Vinci Art Alliance\, and Gerard Silva\, Fleisher’s exhibitions and special projects manager. Whether you want to participate in the critiques or simply sit back and observe\, you are in for a fun\, fast-paced\, and witty evening of art talk. Show us what you have been working on this past term. Or cheer on your classmates and celebrate the end of the winter term. \nIf you’d like to receive feedback on your work\, please submit your images to Vita Litvak via email at vlitvak@fleisher.org. There will only be 10 presenter artists selected on a first-come-first-served basis. Each artist will receive five minutes of expert advice from our esteemed guests. \nThis event is open to the public with a suggested donation of $10 but is limited to a maximum number of 100 participants. Advanced registration is required. The event will be hosted through Zoom\, which can be accessed on desktop and laptop computers\, as well as mobile devices. We highly recommend downloading the Zoom app to your device in advance. You will receive a URL to join the event after you complete the registration process.
URL:https://fleisher.org/event/fleisher-from-a-distance-mini-crits-with-da-vinci-art-alliance/
ATTACH;FMTTYPE=image/jpeg:https://fleisher.org/wp-content/uploads/2015/06/annual_student_exhibition.jpg
END:VEVENT
END:VCALENDAR