BEGIN:VCALENDAR
VERSION:2.0
PRODID:-//Fleisher Art Memorial - ECPv6.15.20//NONSGML v1.0//EN
CALSCALE:GREGORIAN
METHOD:PUBLISH
X-WR-CALNAME:Fleisher Art Memorial
X-ORIGINAL-URL:https://fleisher.org
X-WR-CALDESC:Events for Fleisher Art Memorial
REFRESH-INTERVAL;VALUE=DURATION:PT1H
X-Robots-Tag:noindex
X-PUBLISHED-TTL:PT1H
BEGIN:VTIMEZONE
TZID:America/New_York
BEGIN:DAYLIGHT
TZOFFSETFROM:-0500
TZOFFSETTO:-0400
TZNAME:EDT
DTSTART:20210314T070000
END:DAYLIGHT
BEGIN:STANDARD
TZOFFSETFROM:-0400
TZOFFSETTO:-0500
TZNAME:EST
DTSTART:20211107T060000
END:STANDARD
BEGIN:DAYLIGHT
TZOFFSETFROM:-0500
TZOFFSETTO:-0400
TZNAME:EDT
DTSTART:20220313T070000
END:DAYLIGHT
BEGIN:STANDARD
TZOFFSETFROM:-0400
TZOFFSETTO:-0500
TZNAME:EST
DTSTART:20221106T060000
END:STANDARD
BEGIN:DAYLIGHT
TZOFFSETFROM:-0500
TZOFFSETTO:-0400
TZNAME:EDT
DTSTART:20230312T070000
END:DAYLIGHT
BEGIN:STANDARD
TZOFFSETFROM:-0400
TZOFFSETTO:-0500
TZNAME:EST
DTSTART:20231105T060000
END:STANDARD
END:VTIMEZONE
BEGIN:VEVENT
DTSTART;TZID=America/New_York:20221013T183000
DTEND;TZID=America/New_York:20221013T200000
DTSTAMP:20260424T071216
CREATED:20220927T191905Z
LAST-MODIFIED:20220927T192409Z
UID:17360-1665685800-1665691200@fleisher.org
SUMMARY:Found in Translation: Prácticas Comunitarias dentro de America Latine Sesión 2
DESCRIPTION:Community Practices within Latinx America \nSessions will be held on Thursdays\, October 6\, 13\, 20 and 27\, 6:30 – 8pm \nThis seminar\, led by visual artist\, curator and community artist José Ortiz-Pagán\, will guide the audience through a contemporary survey of artists that are developing their practice within communal settings. The sessions will focus on Latinx artists across the entire American continent and how each one of their practices develops different forms of engaging community\, while lifting their stories within a broader platform. \nRegistration is free and includes admission to all four Zoom sessions. \nPrácticas Comunitarias dentro de America Latine \nLas sesiones se llevarán a cabo el Jueves\, 6\, 13\, 20 y 27 de octubre\, 6:30 – 8pm \nA través de este seminario el artista\, curador y organizador José Ortiz-Pagán\, introducirá a la audiencia una variedad de artistas enfocados en Arte Comunitario. Este curso se enfocará en la forma que varios artistas han desarrollado estrategias para envolver varias comunidades en sus proyectos con enfoques que resaltan los retos que afectan dichas comunidades. El curso considerara artistes Latiné de todo el continente Americano. \nLa inscripción es gratuita e incluye la entrada a las cuatro sesiones de Zoom. \nAbout José Ortiz-Pagán \nJosé Ortiz-Pagán is a visual artist and cultural organizer working on community-based art projects concerned with how art projects can include people on a local level\, how to negotiate a diverse notion of cultural expression\, and how to create safe places for people to develop their evolving traditional practices. \nWhile working with Fleisher Art Memorial in Philadelphia\, Ortiz-Pagán developed the annual Día de los Muertos celebration in collaboration with the Calaca Flaca Committee that took place in various locations in Southwest Philadelphia; as well as Bring Your Own Project (BYOP)\, a multi-part “place-keeping” project grounded in two extensive residency partnerships with W.O.A.R. (Women Organized Against Rape)\, and VietLEAD\, a neighborhood program that supports Vietnamese communities. \nAs a printmaker\, Ortiz-Pagán addresses how postindustrial and post-colonial communities\, the use of time\, economies\, and spiritual practices serve as a cultural gateway to develop community strength and self-agency. He has received awards and developed projects with Second State Press\, Taller Puertorriqueño\, Chemical Heritage Museum and the Art Anthropology Museum at the University of Puerto Rico. His work has been featured in exhibitions including the 2015 Trienal Poligráfica in San Juan PR\, the international printmaking biennial in Taiwan ROC\, and the publication New American Paintings. \nAbout Found in Translation \nFound in Translation is a free series of art history and critical theory workshops organized by Fleisher in partnership with several cultural institutions throughout Philadelphia. The series specifically focuses on centering BIPOC and Queer voices\, reflecting a more inclusive view of the communities we work with. Found in Translation\, aligned with Fleisher’s mission of making art more accessible through our education and community programs\, brings these valuable perspectives to a broader public.
URL:https://fleisher.org/event/found-in-translation-practicas-comunitarias-dentro-de-america-latine-session-one-2022-10-13/
LOCATION:Fleisher Art Memorial\, 719 Catharine St\, Philadelphia\, PA\, 19147\, United States
ATTACH;FMTTYPE=image/jpeg:https://fleisher.org/wp-content/uploads/2022/09/Jose1-1-scaled.jpg
GEO:39.9391884;-75.1553567
X-APPLE-STRUCTURED-LOCATION;VALUE=URI;X-ADDRESS=Fleisher Art Memorial 719 Catharine St Philadelphia PA 19147 United States;X-APPLE-RADIUS=500;X-TITLE=719 Catharine St:geo:-75.1553567,39.9391884
END:VEVENT
END:VCALENDAR