BEGIN:VCALENDAR
VERSION:2.0
PRODID:-//Fleisher Art Memorial - ECPv6.15.20//NONSGML v1.0//EN
CALSCALE:GREGORIAN
METHOD:PUBLISH
X-WR-CALNAME:Fleisher Art Memorial
X-ORIGINAL-URL:https://fleisher.org
X-WR-CALDESC:Events for Fleisher Art Memorial
REFRESH-INTERVAL;VALUE=DURATION:PT1H
X-Robots-Tag:noindex
X-PUBLISHED-TTL:PT1H
BEGIN:VTIMEZONE
TZID:America/New_York
BEGIN:DAYLIGHT
TZOFFSETFROM:-0500
TZOFFSETTO:-0400
TZNAME:EDT
DTSTART:20250309T070000
END:DAYLIGHT
BEGIN:STANDARD
TZOFFSETFROM:-0400
TZOFFSETTO:-0500
TZNAME:EST
DTSTART:20251102T060000
END:STANDARD
BEGIN:DAYLIGHT
TZOFFSETFROM:-0500
TZOFFSETTO:-0400
TZNAME:EDT
DTSTART:20260308T070000
END:DAYLIGHT
BEGIN:STANDARD
TZOFFSETFROM:-0400
TZOFFSETTO:-0500
TZNAME:EST
DTSTART:20261101T060000
END:STANDARD
BEGIN:DAYLIGHT
TZOFFSETFROM:-0500
TZOFFSETTO:-0400
TZNAME:EDT
DTSTART:20270314T070000
END:DAYLIGHT
BEGIN:STANDARD
TZOFFSETFROM:-0400
TZOFFSETTO:-0500
TZNAME:EST
DTSTART:20271107T060000
END:STANDARD
END:VTIMEZONE
BEGIN:VEVENT
DTSTART;TZID=America/New_York:20260530T100000
DTEND;TZID=America/New_York:20260530T160000
DTSTAMP:20260421T161202
CREATED:20260420T190810Z
LAST-MODIFIED:20260420T205720Z
UID:28636-1780135200-1780156800@fleisher.org
SUMMARY:Jewelry Workshop: Etched Earrings
DESCRIPTION:Draw on metal and create unique earrings in this one-time workshop well suited for beginners and advanced students alike. Students will take a design of their own and using a non-toxic saltwater etching technique\, etch the design into the surface of sheet metal. After etching\, students will solder earring posts to the backs of their designs. Using a patina\, students will then darken the metal and sand back the highpoints to make their design pop. Students will create a finished set of earrings they can take home at the end of the workshop. This workshop could be a good fit for those interested in 2D artmaking and want an introduction into a handful of basic metalsmithing processes. \nAccessibility Note: This studio has partial stair access. The main workspace is reachable via an alternate entrance\, but some areas require stairs. Please contact adulteducation@fleisher.org to discuss accommodations. 
URL:https://fleisher.org/event/jewelry-workshop-etched-earrings-2/
LOCATION:Fleisher Art Memorial\, 719 Catharine St\, Philadelphia\, PA\, 19147\, United States
ATTACH;FMTTYPE=image/png:https://fleisher.org/wp-content/uploads/2024/09/EtchedEarrings-1.png
GEO:39.9391884;-75.1553567
X-APPLE-STRUCTURED-LOCATION;VALUE=URI;X-ADDRESS=Fleisher Art Memorial 719 Catharine St Philadelphia PA 19147 United States;X-APPLE-RADIUS=500;X-TITLE=719 Catharine St:geo:-75.1553567,39.9391884
END:VEVENT
END:VCALENDAR