BEGIN:VCALENDAR
VERSION:2.0
PRODID:-//Fleisher Art Memorial - ECPv6.15.20//NONSGML v1.0//EN
CALSCALE:GREGORIAN
METHOD:PUBLISH
X-WR-CALNAME:Fleisher Art Memorial
X-ORIGINAL-URL:https://fleisher.org
X-WR-CALDESC:Events for Fleisher Art Memorial
REFRESH-INTERVAL;VALUE=DURATION:PT1H
X-Robots-Tag:noindex
X-PUBLISHED-TTL:PT1H
BEGIN:VTIMEZONE
TZID:America/New_York
BEGIN:DAYLIGHT
TZOFFSETFROM:-0500
TZOFFSETTO:-0400
TZNAME:EDT
DTSTART:20250309T070000
END:DAYLIGHT
BEGIN:STANDARD
TZOFFSETFROM:-0400
TZOFFSETTO:-0500
TZNAME:EST
DTSTART:20251102T060000
END:STANDARD
BEGIN:DAYLIGHT
TZOFFSETFROM:-0500
TZOFFSETTO:-0400
TZNAME:EDT
DTSTART:20260308T070000
END:DAYLIGHT
BEGIN:STANDARD
TZOFFSETFROM:-0400
TZOFFSETTO:-0500
TZNAME:EST
DTSTART:20261101T060000
END:STANDARD
BEGIN:DAYLIGHT
TZOFFSETFROM:-0500
TZOFFSETTO:-0400
TZNAME:EDT
DTSTART:20270314T070000
END:DAYLIGHT
BEGIN:STANDARD
TZOFFSETFROM:-0400
TZOFFSETTO:-0500
TZNAME:EST
DTSTART:20271107T060000
END:STANDARD
END:VTIMEZONE
BEGIN:VEVENT
DTSTART;TZID=America/New_York:20260109T170000
DTEND;TZID=America/New_York:20260109T200000
DTSTAMP:20260425T125826
CREATED:20251015T193951Z
LAST-MODIFIED:20251015T210508Z
UID:28006-1767978000-1767988800@fleisher.org
SUMMARY:jumpstART: Mini Mosaics
DESCRIPTION:Fall in love with mosaics and explore the rich and satisfying medium in this short hands-on workshop. You’ll get tips on designing a mosaic piece\, how to cut tiles and glass safely\, approaches to applying adhesive and several basic patterns. You’ll walk away with a finished miniature mosaic of your very own! All supplies are included.
URL:https://fleisher.org/event/jumpstart-mini-mosaics-3/
ATTACH;FMTTYPE=image/jpeg:https://fleisher.org/wp-content/uploads/2024/12/Adult24_Mosaics_smallwork.jpg
END:VEVENT
END:VCALENDAR