BEGIN:VCALENDAR
VERSION:2.0
PRODID:-//Fleisher Art Memorial - ECPv6.15.20//NONSGML v1.0//EN
CALSCALE:GREGORIAN
METHOD:PUBLISH
X-WR-CALNAME:Fleisher Art Memorial
X-ORIGINAL-URL:https://fleisher.org
X-WR-CALDESC:Events for Fleisher Art Memorial
REFRESH-INTERVAL;VALUE=DURATION:PT1H
X-Robots-Tag:noindex
X-PUBLISHED-TTL:PT1H
BEGIN:VTIMEZONE
TZID:America/New_York
BEGIN:DAYLIGHT
TZOFFSETFROM:-0500
TZOFFSETTO:-0400
TZNAME:EDT
DTSTART:20250309T070000
END:DAYLIGHT
BEGIN:STANDARD
TZOFFSETFROM:-0400
TZOFFSETTO:-0500
TZNAME:EST
DTSTART:20251102T060000
END:STANDARD
BEGIN:DAYLIGHT
TZOFFSETFROM:-0500
TZOFFSETTO:-0400
TZNAME:EDT
DTSTART:20260308T070000
END:DAYLIGHT
BEGIN:STANDARD
TZOFFSETFROM:-0400
TZOFFSETTO:-0500
TZNAME:EST
DTSTART:20261101T060000
END:STANDARD
BEGIN:DAYLIGHT
TZOFFSETFROM:-0500
TZOFFSETTO:-0400
TZNAME:EDT
DTSTART:20270314T070000
END:DAYLIGHT
BEGIN:STANDARD
TZOFFSETFROM:-0400
TZOFFSETTO:-0500
TZNAME:EST
DTSTART:20271107T060000
END:STANDARD
END:VTIMEZONE
BEGIN:VEVENT
DTSTART;TZID=America/New_York:20260530T090000
DTEND;TZID=America/New_York:20260530T120000
DTSTAMP:20260423T054738
CREATED:20260420T175827Z
LAST-MODIFIED:20260420T205516Z
UID:28613-1780131600-1780142400@fleisher.org
SUMMARY:jumpstART: Wheel Throwing
DESCRIPTION:Curious about wheel throwing? This is your chance to try it out in a fun\, fast-paced\, instructor guided workshop. You’ll experience throwing on the wheel and learn some basic ceramic techniques. We’ll fire your work and it’ll be ready for pick up within two weeks of your workshop in the Ceramics Studio. Please review our Operating Hours for studio access. \nFiring Schedule: Students will receive an email when their work has been fired and is ready for pickup\, typically about two weeks after the class. \nAccessibility Note: This studio is accessible by elevator\, but some auxiliary areas require stairs. For access needs or accommodations\, contact adulteducation@fleisher.org. \nAll supplies are included with enrollment.
URL:https://fleisher.org/event/jumpstart-wheel-throwing-3/
LOCATION:Fleisher Art Memorial\, 719 Catharine St\, Philadelphia\, PA\, 19147\, United States
ATTACH;FMTTYPE=image/jpeg:https://fleisher.org/wp-content/uploads/2025/07/fam-ceramics.jpg
GEO:39.9391884;-75.1553567
X-APPLE-STRUCTURED-LOCATION;VALUE=URI;X-ADDRESS=Fleisher Art Memorial 719 Catharine St Philadelphia PA 19147 United States;X-APPLE-RADIUS=500;X-TITLE=719 Catharine St:geo:-75.1553567,39.9391884
END:VEVENT
END:VCALENDAR