BEGIN:VCALENDAR
VERSION:2.0
PRODID:-//Fleisher Art Memorial - ECPv6.15.20//NONSGML v1.0//EN
CALSCALE:GREGORIAN
METHOD:PUBLISH
X-WR-CALNAME:Fleisher Art Memorial
X-ORIGINAL-URL:https://fleisher.org
X-WR-CALDESC:Events for Fleisher Art Memorial
REFRESH-INTERVAL;VALUE=DURATION:PT1H
X-Robots-Tag:noindex
X-PUBLISHED-TTL:PT1H
BEGIN:VTIMEZONE
TZID:America/New_York
BEGIN:DAYLIGHT
TZOFFSETFROM:-0500
TZOFFSETTO:-0400
TZNAME:EDT
DTSTART:20240310T070000
END:DAYLIGHT
BEGIN:STANDARD
TZOFFSETFROM:-0400
TZOFFSETTO:-0500
TZNAME:EST
DTSTART:20241103T060000
END:STANDARD
BEGIN:DAYLIGHT
TZOFFSETFROM:-0500
TZOFFSETTO:-0400
TZNAME:EDT
DTSTART:20250309T070000
END:DAYLIGHT
BEGIN:STANDARD
TZOFFSETFROM:-0400
TZOFFSETTO:-0500
TZNAME:EST
DTSTART:20251102T060000
END:STANDARD
BEGIN:DAYLIGHT
TZOFFSETFROM:-0500
TZOFFSETTO:-0400
TZNAME:EDT
DTSTART:20260308T070000
END:DAYLIGHT
BEGIN:STANDARD
TZOFFSETFROM:-0400
TZOFFSETTO:-0500
TZNAME:EST
DTSTART:20261101T060000
END:STANDARD
END:VTIMEZONE
BEGIN:VEVENT
DTSTART;TZID=America/New_York:20250731T203000
DTEND;TZID=America/New_York:20250731T220000
DTSTAMP:20260421T042604
CREATED:20250522T180412Z
LAST-MODIFIED:20250528T161230Z
UID:26877-1753993800-1753999200@fleisher.org
SUMMARY:Summer Camp Movie Night: Moonrise Kingdom
DESCRIPTION:Experience the magic of summer camp here in South Philly! Join Fleisher and South Philly Time Capsule for a free outdoor film series celebrating the fun\, friendship\, and nostalgia of classic camp adventures. Each evening features a movie\, camp-inspired arts & crafts activities\, and summer favorites available for purchase. \nFREE — Registration encouraged. Registrants will be automatically entered into a raffle to be drawn before the movie screens. \nLocation: Outdoors in front of Fleisher’s Works on Paper building\, 705 Christian Street \nStart Time: Films begin at sundown (around 8:30 PM) — BYO chair or blanket! Moviegoers are welcome starting at 7:30pm. \nAccessibility: These events are ADA accessible and CC will be provided. \nFilm Lineup:\nJune 26 – The Parent Trap (1961) | Register\nJuly 31 – Moonrise Kingdom (2012)\nAugust 21 – Addams Family Values (1991) | Register
URL:https://fleisher.org/event/summer-camp-movie-night-moonrise-kingdom/
LOCATION:Fleisher Art Memorial\, 719 Catharine St\, Philadelphia\, PA\, 19147\, United States
ATTACH;FMTTYPE=image/jpeg:https://fleisher.org/wp-content/uploads/2025/05/91o9OrQUMmL._AC_UF8941000_QL80_DpWeblab_.jpg
GEO:39.9391884;-75.1553567
X-APPLE-STRUCTURED-LOCATION;VALUE=URI;X-ADDRESS=Fleisher Art Memorial 719 Catharine St Philadelphia PA 19147 United States;X-APPLE-RADIUS=500;X-TITLE=719 Catharine St:geo:-75.1553567,39.9391884
END:VEVENT
END:VCALENDAR